BEGIN:VCALENDAR
VERSION:2.0
PRODID:-//ChamberMaster//Event Calendar 2.0//EN
METHOD:PUBLISH
X-PUBLISHED-TTL:P3D
REFRESH-INTERVAL:P3D
CALSCALE:GREGORIAN
BEGIN:VEVENT
DTSTART:20130502T010000Z
DTEND:20130502T040000Z
X-MICROSOFT-CDO-ALLDAYEVENT:FALSE
SUMMARY:NEOEDD offers the Foundations Business Planning Class
DESCRIPTION:The seven-session series of classes will take current and prospective business owners through the process of assessing their business plan and help them answer a myriad of questions about pricing\, marketing\, profit potential\, break-even point and business structure. The classes are very interactive and participants will be encouraged to complete a written business plan by the end of the class.  Classes will be held on Wednesday nights 6:00-9:00pm in Enterprise. Contact us at 541-426-3598 or 800-645-9454 if you have any questions\, or to pre-register.  Classes will be free. Pre-registration is required and the classes will be filled on a first-come\, first-served basis.
X-ALT-DESC;FMTTYPE=text/html:<div style="color: gray\;">\n	<span style="color: rgb(0\, 0\, 0)\;"><span style="text-decoration: none\; text-underline: none\;"><span style="font-family: arial\,sans-serif\;"><span style="font-size: medium\;">The seven-session series of classes will take current and prospective business owners through the process of assessing their business plan and help them answer a myriad of questions about pricing\, marketing\, profit potential\, break-even point and business structure. The classes are very interactive and participants will be encouraged to complete a written business plan by the end of the class.&nbsp\; Classes will be held on Wednesday nights 6:00-9:00pm in Enterprise. Contact us at&nbsp\;541-426-3598&nbsp\;or&nbsp\;800-645-9454 if you have any questions\, or to pre-register.&nbsp\; Classes will be free. Pre-registration is required and the classes will be filled on a first-come\, first-served basis.</span></span></span></span><br />\n	&nbsp\;</div>\n
LOCATION:Fishtrap House\, 400 E. Grant St.\, Enterprise
UID:e.1631.2531
SEQUENCE:3
DTSTAMP:20260419T163827Z
URL:http://wallowacountychamber.sampleorg.com/events/details/neoedd-offers-the-foundations-business-planning-class-05-01-2013-2531
END:VEVENT

END:VCALENDAR
