BEGIN:VCALENDAR
VERSION:2.0
PRODID:-//ChamberMaster//Event Calendar 2.0//EN
METHOD:PUBLISH
X-PUBLISHED-TTL:P3D
REFRESH-INTERVAL:P3D
CALSCALE:GREGORIAN
BEGIN:VEVENT
DTSTART:20260913T010000Z
DTEND:20260913T043000Z
X-MICROSOFT-CDO-ALLDAYEVENT:FALSE
SUMMARY:Old West Trio t OK Theatre
DESCRIPTION:Old West Trio will be performing at the OK Theatre in conjunction with Hells Canyon Mule Days!\n\n \nBe sure to come out for all the great events Hells Canyon Mule Days has to offer!\n\nAbout the band\,\n\nNow in our 30th year...\n\nOld West Trio performs songs of the American Cowboy by combining the best of three voices\, two guitars\, and one bass. Expect to hear elements of the Sons of the Pioneers\, Gene Autry\, and more with a peppering of swing\, yodeling\, and lighthearted fun. Members of the group are Steve Johnson (lead guitar)\, Steve Ide (rhythm guitar)\, and Leslie Ide (bass)\n\n"One of the best groups I ever had the pleasure of hearing LIVE!"  Ralph Roggenbuck
X-ALT-DESC;FMTTYPE=text/html:<span style="color: rgb(88\, 81\, 99)\; font-family: &quot\;Neue Plak&quot\;\, -apple-system\, BlinkMacSystemFont\, Roboto\, &quot\;Helvetica Neue&quot\;\, Helvetica\, Tahoma\, Arial\, sans-serif\; font-size: 18px\; font-style: normal\; font-variant-ligatures: normal\; font-variant-caps: normal\; font-weight: 400\; letter-spacing: 0.1px\; orphans: 2\; text-align: start\; text-indent: 0px\; text-transform: none\; widows: 2\; word-spacing: 0px\; -webkit-text-stroke-width: 0px\; white-space: normal\; text-decoration-thickness: initial\; text-decoration-style: initial\; text-decoration-color: initial\; display: inline !important\; float: none\;">Old West Trio will be performing at the OK Theatre in conjunction with Hells Canyon Mule Days!</span><br />\n&nbsp\;\n<h3 style="box-sizing: border-box\; padding: 0px\; margin: 12px 0px 0px\; font-weight: 600\; font-size: 20px\; color: rgb(88\, 81\, 99)\; font-family: &quot\;Neue Plak&quot\;\, -apple-system\, BlinkMacSystemFont\, Roboto\, &quot\;Helvetica Neue&quot\;\, Helvetica\, Tahoma\, Arial\, sans-serif\; font-style: normal\; font-variant-ligatures: normal\; font-variant-caps: normal\; letter-spacing: 0.1px\; orphans: 2\; text-align: start\; text-indent: 0px\; text-transform: none\; widows: 2\; word-spacing: 0px\; -webkit-text-stroke-width: 0px\; white-space: normal\; text-decoration-thickness: initial\; text-decoration-style: initial\; text-decoration-color: initial\;">Be sure to come out for all the great events Hells Canyon Mule Days has to offer!</h3>\n\n<h3 style="box-sizing: border-box\; padding: 0px\; margin: 12px 0px 0px\; font-weight: 600\; font-size: 20px\; color: rgb(88\, 81\, 99)\; font-family: &quot\;Neue Plak&quot\;\, -apple-system\, BlinkMacSystemFont\, Roboto\, &quot\;Helvetica Neue&quot\;\, Helvetica\, Tahoma\, Arial\, sans-serif\; font-style: normal\; font-variant-ligatures: normal\; font-variant-caps: normal\; letter-spacing: 0.1px\; orphans: 2\; text-align: start\; text-indent: 0px\; text-transform: none\; widows: 2\; word-spacing: 0px\; -webkit-text-stroke-width: 0px\; white-space: normal\; text-decoration-thickness: initial\; text-decoration-style: initial\; text-decoration-color: initial\;">About the band\,</h3>\n\n<h3 style="box-sizing: border-box\; padding: 0px\; margin: 12px 0px 0px\; font-weight: 600\; font-size: 20px\; color: rgb(88\, 81\, 99)\; font-family: &quot\;Neue Plak&quot\;\, -apple-system\, BlinkMacSystemFont\, Roboto\, &quot\;Helvetica Neue&quot\;\, Helvetica\, Tahoma\, Arial\, sans-serif\; font-style: normal\; font-variant-ligatures: normal\; font-variant-caps: normal\; letter-spacing: 0.1px\; orphans: 2\; text-align: start\; text-indent: 0px\; text-transform: none\; widows: 2\; word-spacing: 0px\; -webkit-text-stroke-width: 0px\; white-space: normal\; text-decoration-thickness: initial\; text-decoration-style: initial\; text-decoration-color: initial\;">Now in our 30th year...</h3>\n\n<h3 style="box-sizing: border-box\; padding: 0px\; margin: 12px 0px 0px\; font-weight: 600\; font-size: 20px\; color: rgb(88\, 81\, 99)\; font-family: &quot\;Neue Plak&quot\;\, -apple-system\, BlinkMacSystemFont\, Roboto\, &quot\;Helvetica Neue&quot\;\, Helvetica\, Tahoma\, Arial\, sans-serif\; font-style: normal\; font-variant-ligatures: normal\; font-variant-caps: normal\; letter-spacing: 0.1px\; orphans: 2\; text-align: start\; text-indent: 0px\; text-transform: none\; widows: 2\; word-spacing: 0px\; -webkit-text-stroke-width: 0px\; white-space: normal\; text-decoration-thickness: initial\; text-decoration-style: initial\; text-decoration-color: initial\;">Old West Trio performs songs of the American Cowboy by combining the best of three voices\, two guitars\, and one bass. Expect to hear elements of the Sons of the Pioneers\, Gene Autry\, and more with a peppering of swing\, yodeling\, and lighthearted fun. Members of the group are Steve Johnson (lead guitar)\, Steve Ide (rhythm guitar)\, and Leslie Ide (bass)</h3>\n\n<h3 style="box-sizing: border-box\; padding: 0px\; margin: 12px 0px 0px\; font-weight: 600\; font-size: 20px\; color: rgb(88\, 81\, 99)\; font-family: &quot\;Neue Plak&quot\;\, -apple-system\, BlinkMacSystemFont\, Roboto\, &quot\;Helvetica Neue&quot\;\, Helvetica\, Tahoma\, Arial\, sans-serif\; font-style: normal\; font-variant-ligatures: normal\; font-variant-caps: normal\; letter-spacing: 0.1px\; orphans: 2\; text-align: start\; text-indent: 0px\; text-transform: none\; widows: 2\; word-spacing: 0px\; -webkit-text-stroke-width: 0px\; white-space: normal\; text-decoration-thickness: initial\; text-decoration-style: initial\; text-decoration-color: initial\;"><em style="box-sizing: border-box\; padding: 0px\; margin: 0px\;"><em style="box-sizing: border-box\; padding: 0px\; margin: 0px\;">&quot\;One of the best groups I ever had the pleasure of hearing LIVE!&quot\;</em></em><em style="box-sizing: border-box\; padding: 0px\; margin: 0px\;"><em style="box-sizing: border-box\; padding: 0px\; margin: 0px\;"><span>&nbsp\;</span></em></em><em style="box-sizing: border-box\; padding: 0px\; margin: 0px\;"><strong style="box-sizing: border-box\; padding: 0px\; margin: 0px\; font-weight: 600\;"><strong style="box-sizing: border-box\; padding: 0px\; margin: 0px\; font-weight: 600\;">&mdash\;Ralph Roggenbuck</strong></strong></em></h3>\n<br />\n&nbsp\;
LOCATION:Ok Theatre\, Enterprise
UID:e.1631.29418
SEQUENCE:3
DTSTAMP:20260425T124337Z
URL:http://wallowacountychamber.sampleorg.com/events/details/old-west-trio-t-ok-theatre-29418
END:VEVENT

END:VCALENDAR
