BEGIN:VCALENDAR
VERSION:2.0
PRODID:-//ChamberMaster//Event Calendar 2.0//EN
METHOD:PUBLISH
X-PUBLISHED-TTL:P3D
REFRESH-INTERVAL:P3D
CALSCALE:GREGORIAN
BEGIN:VEVENT
DTSTART:20260502T160000Z
DTEND:20260502T190000Z
X-MICROSOFT-CDO-ALLDAYEVENT:FALSE
SUMMARY:Outing: Bear Creek Huckleberry Roadless Area
DESCRIPTION:Join Eunice Blavascunas and David Mildrexler for a hike among a wet and wild forest.
X-ALT-DESC;FMTTYPE=text/html:Join Eunice Blavascunas and David Mildrexler for a hike among a wet and wild forest.
LOCATION:Meet at Wallowology\, Joseph
UID:e.1631.29401
SEQUENCE:3
DTSTAMP:20260423T111506Z
URL:http://wallowacountychamber.sampleorg.com/events/details/outing-bear-creek-huckleberry-roadless-area-29401
END:VEVENT

END:VCALENDAR
