BEGIN:VCALENDAR
VERSION:2.0
PRODID:-//ChamberMaster//Event Calendar 2.0//EN
METHOD:PUBLISH
X-PUBLISHED-TTL:P3D
REFRESH-INTERVAL:P3D
CALSCALE:GREGORIAN
BEGIN:VEVENT
DTSTART:20130216T230000Z
DTEND:20130217T040000Z
X-MICROSOFT-CDO-ALLDAYEVENT:FALSE
SUMMARY:Oyster & Steak Feed
DESCRIPTION:Annual All You Can Eat Oyster & Steak Feed sponsored by Wallowa Volunteer Fire Department.
X-ALT-DESC;FMTTYPE=text/html:<em><strong>Annual All You Can Eat Oyster &amp\; Steak Feed </strong></em>sponsored by Wallowa Volunteer Fire Department.&nbsp\; 
LOCATION:Wallowa Senior Center\, Wallowa
UID:e.1631.190
SEQUENCE:3
DTSTAMP:20260419T210434Z
URL:http://wallowacountychamber.sampleorg.com/events/details/oyster-steak-feed-02-16-2013-190
END:VEVENT

END:VCALENDAR
