BEGIN:VCALENDAR
VERSION:2.0
PRODID:-//ChamberMaster//Event Calendar 2.0//EN
METHOD:PUBLISH
X-PUBLISHED-TTL:P3D
REFRESH-INTERVAL:P3D
CALSCALE:GREGORIAN
BEGIN:VEVENT
DTSTART;VALUE=DATE:20130315
DTEND;VALUE=DATE:20130317
TRANSP:TRANSPARENT
X-MICROSOFT-CDO-ALLDAYEVENT:TRUE
SUMMARY:PGG Spring Spectacular
DESCRIPTION:Spring Spectacular!  will be held at the Pendleton Convention Center on Friday and Saturday.  Come check out our lowest prices of the season.  There will be CHS Livestock Feeding Seminar on Saturday at 10am for 4-H & FFA kids.  Kids will receive a free bag of CHS feed for attending.  There will also be drawings\, mutton busting and free food.  Prizes include 2 tickets to the 90 point club during the July 3rd PGG PBR\, $100 gift card or a Wildhorse getaway package.
X-ALT-DESC;FMTTYPE=text/html:<em><span style="font-size: 14px\;"><strong>Spring Spectacular!&nbsp\; </strong></span></em><span style="font-size: 14px\;">will be held at the Pendleton Convention Center on Friday and Saturday.&nbsp\; Come check out our lowest prices of the season.&nbsp\; There will be CHS Livestock Feeding Seminar on Saturday at 10am for 4-H &amp\; FFA kids.&nbsp\; Kids will receive a free bag of CHS feed for attending.&nbsp\; There will also be drawings\, mutton busting and free food.&nbsp\; Prizes include 2 tickets to the 90 point club during the July 3rd PGG PBR\, $100 gift card or a Wildhorse getaway package.</span>
LOCATION:Pendleton Convention Center\, Pendleton
UID:e.1631.2523
SEQUENCE:3
DTSTAMP:20260419T193057Z
URL:http://wallowacountychamber.sampleorg.com/events/details/pgg-spring-spectacular-03-15-2013-2523
END:VEVENT

END:VCALENDAR
