BEGIN:VCALENDAR
VERSION:2.0
PRODID:-//ChamberMaster//Event Calendar 2.0//EN
METHOD:PUBLISH
X-PUBLISHED-TTL:P3D
REFRESH-INTERVAL:P3D
CALSCALE:GREGORIAN
BEGIN:VEVENT
DTSTART:20130504T170000Z
DTEND:20130504T190000Z
X-MICROSOFT-CDO-ALLDAYEVENT:FALSE
SUMMARY:Pollinator Garden Work Day
DESCRIPTION:Come join us in helping prepare our future pollinator garden for spring planting.  Bring your garden gloves\; activities will include weeding\, removing decadent vegetation\, digging soil\, adding compost and having fun.  The pollinator garden is part of a lager schoolyard habitat project to get kids outside learning about pollinators\, bugs\, plants\, and other critters while having fun learning.
X-ALT-DESC;FMTTYPE=text/html:Come join us in helping prepare our future pollinator garden for spring planting.&nbsp\; Bring your garden gloves\; activities will include weeding\, removing decadent vegetation\, digging soil\, adding compost and having fun.&nbsp\; The pollinator garden is part of a lager schoolyard habitat project to get kids outside learning about pollinators\, bugs\, plants\, and other critters while having fun learning.
LOCATION:Joseph Charter School\, 400 E. Williams Ave.\, Joseph
UID:e.1631.3927
SEQUENCE:3
DTSTAMP:20260419T163624Z
URL:http://wallowacountychamber.sampleorg.com/events/details/pollinator-garden-work-day-05-04-2013-3927
END:VEVENT

END:VCALENDAR
