BEGIN:VCALENDAR
VERSION:2.0
PRODID:-//ChamberMaster//Event Calendar 2.0//EN
METHOD:PUBLISH
X-PUBLISHED-TTL:P3D
REFRESH-INTERVAL:P3D
CALSCALE:GREGORIAN
BEGIN:VEVENT
DTSTART:20130427T200000Z
DTEND:20130427T220000Z
X-MICROSOFT-CDO-ALLDAYEVENT:FALSE
SUMMARY:Printmaking for Children
DESCRIPTION:Dana Ingram will teach printmaking\, targeted to children in grades 2-6.  Registration can be made in advance by calling 541-432-0505 or info@josephy.org or at the time of each class
X-ALT-DESC;FMTTYPE=text/html:Dana Ingram will teach printmaking\, targeted to children in grades 2-6.&nbsp\; Registration can be made in advance by calling 541-432-0505 or info@josephy.org or at the time of each class
LOCATION:Josephy Center for Arts & Culture 405 N. Main St.\, Joseph
UID:e.1631.3713
SEQUENCE:3
DTSTAMP:20260419T180351Z
URL:http://wallowacountychamber.sampleorg.com/events/details/printmaking-for-children-04-27-2013-3713
END:VEVENT

END:VCALENDAR
