BEGIN:VCALENDAR
VERSION:2.0
PRODID:-//ChamberMaster//Event Calendar 2.0//EN
METHOD:PUBLISH
X-PUBLISHED-TTL:P3D
REFRESH-INTERVAL:P3D
CALSCALE:GREGORIAN
BEGIN:VEVENT
DTSTART:20130416T010000Z
DTEND:20130416T030000Z
X-MICROSOFT-CDO-ALLDAYEVENT:FALSE
SUMMARY:Public Meeting on Weeds in the County
DESCRIPTION:There will be a public meeting on weeds in the County\, co-hosted by Wallowa County Board of Commissioners and Wallowa County Weed Board.
X-ALT-DESC;FMTTYPE=text/html:There will be a public meeting on weeds in the County\, co-hosted by Wallowa County Board of Commissioners and Wallowa County Weed Board.
LOCATION:Cloverleaf Hall\, Enterprise
UID:e.1631.3704
SEQUENCE:3
DTSTAMP:20260419T180956Z
URL:http://wallowacountychamber.sampleorg.com/events/details/public-meeting-on-weeds-in-the-county-04-15-2013-3704
END:VEVENT

END:VCALENDAR
