BEGIN:VCALENDAR
VERSION:2.0
PRODID:-//ChamberMaster//Event Calendar 2.0//EN
METHOD:PUBLISH
X-PUBLISHED-TTL:P3D
REFRESH-INTERVAL:P3D
CALSCALE:GREGORIAN
BEGIN:VEVENT
DTSTART:20130216T020000Z
DTEND:20130216T050000Z
X-MICROSOFT-CDO-ALLDAYEVENT:FALSE
SUMMARY:Red Rooster Cafe Valentines Dinner
DESCRIPTION:Come join us for a Valentine's Dinner.  On the Menu we have a Surf & Turf with a creamy pasta\, salad\, fresh veggies\, homemade bread and a dessert.  $60.00 per couple\, wine & beer available for purchase.  Please call to make a reservation 541-426-2233.
X-ALT-DESC;FMTTYPE=text/html:<div style="color: gray\;">\n	<span style="text-decoration: none\; text-underline: none\;"><span style="font-family: arial\, sans-serif\;"><span style="font-size: medium\;">Come join us for a Valentine&#39\;s Dinner.&nbsp\; On the Menu we have a Surf &amp\; Turf with a creamy pasta\, salad\, fresh veggies\, homemade bread and a dessert.&nbsp\; $60.00 per couple\, wine &amp\; beer available for purchase.&nbsp\; Please call to make a reservation 541-426-2233.&nbsp\;&nbsp\;</span></span></span><br />\n	&nbsp\;</div>\n
LOCATION:309 W. Main St.\, Enterprise
UID:e.1631.544
SEQUENCE:3
DTSTAMP:20260419T210516Z
URL:http://wallowacountychamber.sampleorg.com/events/details/red-rooster-cafe-valentines-dinner-02-15-2013-544
END:VEVENT

END:VCALENDAR
