BEGIN:VCALENDAR
VERSION:2.0
PRODID:-//ChamberMaster//Event Calendar 2.0//EN
METHOD:PUBLISH
X-PUBLISHED-TTL:P3D
REFRESH-INTERVAL:P3D
CALSCALE:GREGORIAN
BEGIN:VEVENT
DTSTART:20130414T010000Z
DTEND:20130414T030000Z
X-MICROSOFT-CDO-ALLDAYEVENT:FALSE
SUMMARY:Safe Harbors Annual Chili Feed & Bingo Fundraiser
DESCRIPTION:The Annual Chili Feed and Bingo Fundraiser for Safe Harbors will begin at 6:00pm. with chili dinner and Bingo begins at 7:00pm
X-ALT-DESC;FMTTYPE=text/html:The Annual Chili Feed and Bingo Fundraiser for Safe Harbors will begin at 6:00pm. with chili dinner and Bingo begins at 7:00pm&nbsp\;
LOCATION:Joseph Community Center\, Joseph
UID:e.1631.3703
SEQUENCE:3
DTSTAMP:20260419T180923Z
URL:http://wallowacountychamber.sampleorg.com/events/details/safe-harbors-annual-chili-feed-bingo-fundraiser-04-13-2013-3703
END:VEVENT

END:VCALENDAR
