BEGIN:VCALENDAR
VERSION:2.0
PRODID:-//ChamberMaster//Event Calendar 2.0//EN
METHOD:PUBLISH
X-PUBLISHED-TTL:P3D
REFRESH-INTERVAL:P3D
CALSCALE:GREGORIAN
BEGIN:VEVENT
DTSTART:20130310T200000Z
DTEND:20130311T000000Z
X-MICROSOFT-CDO-ALLDAYEVENT:FALSE
SUMMARY:Season Extension Growing Workshop
DESCRIPTION:Season Extension Using Low Row Cover\, a workshop on how to extend the growing season through use of covered garden beds will be offered from 1:00 pm to 5:00 pm on March 10th at the Wallowa Community Garden. Cost for the 4 hour workshop is $25\, which includes materials.  Space is limited to 20 participants. Registration is required and can be done online at http://tinyurl.com/lowrowworkshop   Workshop participants will learn how to construct and install durable and practical low row covers using Agribon and flexible hoops\, as well as the basics of season extension techniques. Participants will leave the workshop with the materials and instruction needed to set up their own low row cover system. Use of covered beds allows for earlier planting and longer harvest of vegetable crops\, including lettuce\, greens\, broccoli and tender annuals. Debborah Reth\, owner of Bear Creek Farms in Wallowa\, will instruct the workshop.
X-ALT-DESC;FMTTYPE=text/html:<div style="color: gray">\n	<span style="font-size: 11pt"><span style="font-family: calibri\, sans-serif"><em>Season Extension Using Low Row Cover</em></span></span><span style="font-size: 11pt"><span style="font-family: calibri\, sans-serif">\, a workshop on how to extend the growing season through use of covered garden beds will be offered from 1:00 pm to 5:00 pm on March 10<sup>th</sup>&nbsp\;at the Wallowa Community Garden. Cost for the 4 hour workshop is $25\, which includes materials.&nbsp\; Space is limited to 20 participants. Registration is required and can be done online at </span><a href="http://tinyurl.com/lowrowworkshop"><span style="background: white"><span style="color: #0000ff">http://tinyurl.com/lowrowworkshop</span></span></a></span>&nbsp\;&nbsp\; <span style="font-size: 11pt"><span style="font-family: calibri\, sans-serif">Workshop participants will learn how to construct and install durable and practical low row covers using Agribon and flexible hoops\, as well as the basics of season extension techniques. Participants will leave the workshop with the materials and instruction needed to set up their own low row cover system. Use of covered beds allows for earlier planting and longer harvest of vegetable crops\, including lettuce\, greens\, broccoli and tender annuals. Debborah Reth\, owner of Bear Creek Farms in Wallowa\, will instruct the workshop.&nbsp\;&nbsp\;</span></span></div>\n
LOCATION:Wallowa Community Garden\, Wallowa
UID:e.1631.1837
SEQUENCE:3
DTSTAMP:20260419T193057Z
URL:http://wallowacountychamber.sampleorg.com/events/details/season-extension-growing-workshop-03-10-2013-1837
END:VEVENT

END:VCALENDAR
