BEGIN:VCALENDAR
VERSION:2.0
PRODID:-//ChamberMaster//Event Calendar 2.0//EN
METHOD:PUBLISH
X-PUBLISHED-TTL:P3D
REFRESH-INTERVAL:P3D
CALSCALE:GREGORIAN
BEGIN:VEVENT
DTSTART:20130713T160000Z
DTEND:20130713T210000Z
X-MICROSOFT-CDO-ALLDAYEVENT:FALSE
SUMMARY:Silent Auction in Conjunction with Bowlby Bash
DESCRIPTION:There will be a silent auction upstairs in the Odd Fellow Hall.  The auction will benefit the Meals on Wheels in Walllowa County.  Look for lots of antiques and collectibles.
X-ALT-DESC;FMTTYPE=text/html:There will be a silent auction upstairs in the Odd Fellow Hall.&nbsp\; The auction will benefit the Meals on Wheels in Walllowa County.&nbsp\; Look for lots of antiques and collectibles.
LOCATION:Odd Fellows Hall\, 105 NE 1st St.\, Enterprise
UID:e.1631.4359
SEQUENCE:3
DTSTAMP:20260419T134743Z
URL:http://wallowacountychamber.sampleorg.com/events/details/silent-auction-in-conjunction-with-bowlby-bash-07-13-2013-4359
END:VEVENT

END:VCALENDAR
