BEGIN:VCALENDAR
VERSION:2.0
PRODID:-//ChamberMaster//Event Calendar 2.0//EN
METHOD:PUBLISH
X-PUBLISHED-TTL:P3D
REFRESH-INTERVAL:P3D
CALSCALE:GREGORIAN
BEGIN:VEVENT
DTSTART:20130713T020000Z
DTEND:20130713T050000Z
X-MICROSOFT-CDO-ALLDAYEVENT:FALSE
SUMMARY:Simon Tucker At Lear's Main Street Pub
DESCRIPTION:Simon Tucker\, internationally acclaimed Americano Blues Guitarist and song writer will be appearing in front of Lear's Friday July 12th beginning @ 7:00 PM.  The nights have been perfect for outside music entertainment and Simon Tucker should touch your soul and rock the house with his music and lyrics. Plenty of room to dance the evening away on the Main Street Sidewalks. A perfect way to prepare for the Bowlby Bash the next day.
X-ALT-DESC;FMTTYPE=text/html:<span style="font-family:arial\,sans-serif\;"><span style="font-size:14.0pt\;">Simon Tucker\, internationally acclaimed Americano Blues Guitarist and song writer will be appearing in front of Lear&rsquo\;s Friday July 12<sup>th</sup> beginning @ 7:00 PM.&nbsp\; The nights have been perfect for outside music entertainment and Simon Tucker should touch your soul and rock the house with his music and lyrics. Plenty of room to dance the evening away on the Main Street Sidewalks. A perfect way to prepare for the Bowlby Bash the next day.</span></span>
LOCATION:111 West Main St.\, Enterprise
UID:e.1631.4355
SEQUENCE:3
DTSTAMP:20260419T134129Z
URL:http://wallowacountychamber.sampleorg.com/events/details/simon-tucker-at-lear-s-main-street-pub-07-12-2013-4355
END:VEVENT

END:VCALENDAR
