BEGIN:VCALENDAR
VERSION:2.0
PRODID:-//ChamberMaster//Event Calendar 2.0//EN
METHOD:PUBLISH
X-PUBLISHED-TTL:P3D
REFRESH-INTERVAL:P3D
CALSCALE:GREGORIAN
BEGIN:VEVENT
DTSTART:20130418T020000Z
DTEND:20130418T040000Z
X-MICROSOFT-CDO-ALLDAYEVENT:FALSE
SUMMARY:Slide Show Presentation by Vince Welch
DESCRIPTION:Slide Show Presentation by Vince Welch for his new book The Last Voyageur: Amos Burg and the Rivers of the West\n\n\n\n\n\nFor river lovers\, paddling enthusiasts\, history buffs\, and everyone who likes stories of courage\, strength\, and adventure.  Amos Burg ran all the major rivers of the West when they still flowed freely and potential danger was just around the next bend.\n\nPart early 20th-century history\, part adventure\, part biography of the West's first commercial outdoor guide\n\nFor more information call 426-3351
X-ALT-DESC;FMTTYPE=text/html:<span style="font-size: 20px\;"><span style="font-family: times new roman\;"><strong>Slide Show Presentation </strong></span>by<strong> <em>Vince Welch </em></strong>for his new book <em><strong>The Last Voyageur: Amos Burg and the Rivers of the West</strong></em></span><br />\n<br />\n<br />\n<span style="font-size: 16px\;"><span style="font-family: times new roman\;">For river lovers\, paddling enthusiasts\, history buffs\, and everyone who likes stories of courage\, strength\, and adventure. &nbsp\;</span>Amos Burg ran all the major rivers of the West when they still flowed freely and potential danger was just around the next bend.<br />\n<span style="font-family: times new roman\;">Part early 20th-century history\, part adventure\, part biography of the West&#39\;s first commercial outdoor guide</span><br />\n<span style="font-family: times new roman\;">For more information call 426-3351</span></span><br />\n
LOCATION:The Bookloft\, 107 E. Main St\, Enterprise
UID:e.1631.3425
SEQUENCE:3
DTSTAMP:20260419T180505Z
URL:http://wallowacountychamber.sampleorg.com/events/details/slide-show-presentation-by-vince-welch-04-17-2013-3425
END:VEVENT

END:VCALENDAR
