BEGIN:VCALENDAR
VERSION:2.0
PRODID:-//ChamberMaster//Event Calendar 2.0//EN
METHOD:PUBLISH
X-PUBLISHED-TTL:P3D
REFRESH-INTERVAL:P3D
CALSCALE:GREGORIAN
BEGIN:VEVENT
DTSTART:20130316T150000Z
DTEND:20130317T000000Z
X-MICROSOFT-CDO-ALLDAYEVENT:FALSE
SUMMARY:Sneak Peak at Main St. Motors
DESCRIPTION:Main Street Motors is having a sneak peak preview of our shop on Saturday the 13th.  We have drawings planned\, including our 1st place of $100.00\, second place is for a $50.00 gift certificate for our great neighbors dining establishment\, The Red Rooster and 3rd place will be for an gasoline powered service\, the First Customer on our new Lubrication rack in our soon to be open shop!  While our shop isn't totally completed we want to show it off as it does look very nice and we are going to have local area owners of some very special classic cars on display in the shop and out on the street too if enough people show up.  Everyone is invited to come by\, bring their old time classic and show it off and just have some fun!  We are going to have cookies for the morning crowd and 4 different types of Hot Dogs with at least 3 different salads prepared by our neighbors kitchen at the Red Rooster.
X-ALT-DESC;FMTTYPE=text/html:<div style="color: gray\;">\n	<span style="text-decoration: none\; text-underline: none\;"><span style="font-size: 11pt\;"><span style="font-family: arial\,sans-serif\;"><span style="color: rgb(0\, 0\, 255)\;">Main Street Motors is having a sneak peak preview of our shop on Saturday the 13th.&nbsp\; We have drawings planned\, including our 1st place of $100.00\, second place is for a $50.00 gift certificate for our great neighbors dining establishment\, The Red Rooster and 3rd place will be for an gasoline powered service\, the First Customer on our new Lubrication rack in our soon to be open shop!&nbsp\; While our shop isn&#39\;t totally completed we want to show it off as it does look very nice and we are going to have local area owners of some very special classic cars on display in the shop and out on the street too if enough people show up.&nbsp\; Everyone is invited to come by\, bring their old time classic and show it off and just have some fun!&nbsp\; We are going to have cookies for the morning crowd and 4 different types of Hot Dogs with at least 3 different salads prepared by our neighbors kitchen at the Red Rooster.</span></span></span></span></div>\n
LOCATION:311 West Main St.\, Enterprise
UID:e.1631.2524
SEQUENCE:3
DTSTAMP:20260419T210526Z
URL:http://wallowacountychamber.sampleorg.com/events/details/sneak-peak-at-main-st-motors-03-16-2013-2524
END:VEVENT

END:VCALENDAR
