BEGIN:VCALENDAR
VERSION:2.0
PRODID:-//ChamberMaster//Event Calendar 2.0//EN
METHOD:PUBLISH
X-PUBLISHED-TTL:P3D
REFRESH-INTERVAL:P3D
CALSCALE:GREGORIAN
BEGIN:VEVENT
DTSTART:20130316T190000Z
DTEND:20130318T050000Z
X-MICROSOFT-CDO-ALLDAYEVENT:FALSE
SUMMARY:St Patrick's Day at Lear's Main St. Pub
DESCRIPTION:St Patrick will be alive and well at Lear's this weekend..  Beginning with an early celebration at noon on Saturday through out the day and evening with the traditional meals\, song and laughter.  Sunday\, beginning at noon\, is the Traditional day of celebration that will include music by the " Not so Irish Irish Music Makers\, the  World famous Bag Piper along with Corned Beef & Cabbage\, Irish Beef Stew\, Shepard Pie and Strawberry Irish Soda Bread.  Sunday is also " Selection" Sunday for the NCAA Men's Basketball tournament.  This is a family event so come on down\, enjoy some true Irish Culture and let the family dance\, sing and have a great time.
X-ALT-DESC;FMTTYPE=text/html:<span style="font-size: 10pt\;"><span style="font-family: arial\,sans-serif\;">St Patrick will be alive and well at Lear&rsquo\;s this weekend..&nbsp\; Beginning with an early celebration at noon on Saturday through out the day and evening with the traditional meals\, song and laughter.&nbsp\; Sunday\, beginning at noon\,&nbsp\;is the Traditional day of celebration that will include music by the &ldquo\; Not so Irish Irish Music Makers\, the&nbsp\; World famous Bag Piper along with Corned Beef &amp\; Cabbage\, Irish Beef Stew\, Shepard Pie and Strawberry Irish Soda Bread.&nbsp\; Sunday is also &ldquo\; Selection&rdquo\; Sunday for the NCAA Men&rsquo\;s Basketball tournament.&nbsp\; This is a family event so come on down\, enjoy some true Irish Culture and let the family dance\, sing and have a great time.</span></span><br />\n
LOCATION:111 W. Main St.\, Enterprise
UID:e.1631.2521
SEQUENCE:3
DTSTAMP:20260419T210421Z
URL:http://wallowacountychamber.sampleorg.com/events/details/st-patrick-s-day-at-lear-s-main-st-pub-03-16-2013-2521
END:VEVENT

END:VCALENDAR
