BEGIN:VCALENDAR
VERSION:2.0
PRODID:-//ChamberMaster//Event Calendar 2.0//EN
METHOD:PUBLISH
X-PUBLISHED-TTL:P3D
REFRESH-INTERVAL:P3D
CALSCALE:GREGORIAN
BEGIN:VEVENT
DTSTART:20130413T190000Z
DTEND:20130414T000000Z
X-MICROSOFT-CDO-ALLDAYEVENT:FALSE
SUMMARY:Stein Distillery Blended Whiskey Release
DESCRIPTION:Stein Distillery Releases first Blended Whiskey  \n	\n		We have filled our 200th Barrel! And it's time to Crack-Open our 2-year Straight Whiskey Blend!! \n\n		 We will hold a Whiskey Release Saturday April 13\, 12pm-5pm (Open House Style) at Stein Distillery. There will be light appetizers\, tastings (per OLCC regulations) of our current product line: vodka\, rum\, cordials\, and whiskeys. Limited quantities of Blended Whiskey   tastings and sales will be on a first come first serve basis.
X-ALT-DESC;FMTTYPE=text/html:<div style="color: gray\;">\n	<p align="LEFT">\n		&nbsp\;</p>\n	<p>\n		<span style="font-size: 16px\;"><b><span id="cke_bm_137S" style="display: none\;">&nbsp\;</span>Stein Distillery Releases first Blended Whiskey </b></span><span id="cke_bm_134S" style="display: none\;">&nbsp\;</span></p>\n	<p>\n		<span style="font-size: 16px\;"><span style="font-size: 18px\;"><font face="Times New Roman\,Times New Roman"><font face="Times New Roman\,Times New Roman">We have filled our 200th<font face="Times New Roman\,Times New Roman"><font face="Times New Roman\,Times New Roman"> </font></font>Barrel! And it&rsquo\;s time to Crack-Open our </font></font></span><b>2-year Straight Whiskey Blend</b></span><font face="Times New Roman\,Times New Roman"><font face="Times New Roman\,Times New Roman"><span style="font-size: 8px\;"><span style="font-size: 18px\;">!! </span><br />\n		<span id="cke_bm_137E" style="display: none\;">&nbsp\;</span></span><font size="4">We will hold a Whiskey Release Saturday April 13\, 12pm-5pm (Open House Style) at Stein Distillery. There will be light appetizers\, tastings (per OLCC regulations) of our current product line: vodka\, rum\, cordials\, and whiskeys. Limited quantities of Blended Whiskey &ndash\; tastings and sales will be on a first come first serve basis. </font><span id="cke_bm_134E" style="display: none\;">&nbsp\;</span></font></font></p>\n</div>\n
LOCATION:600 N. Main St.\, Joseph
UID:e.1631.2953
SEQUENCE:3
DTSTAMP:20260419T180223Z
URL:http://wallowacountychamber.sampleorg.com/events/details/stein-distillery-blended-whiskey-release-04-13-2013-2953
END:VEVENT

END:VCALENDAR
