BEGIN:VCALENDAR
VERSION:2.0
PRODID:-//ChamberMaster//Event Calendar 2.0//EN
METHOD:PUBLISH
X-PUBLISHED-TTL:P3D
REFRESH-INTERVAL:P3D
CALSCALE:GREGORIAN
BEGIN:VEVENT
DTSTART:20130216T170000Z
DTEND:20130216T180000Z
X-MICROSOFT-CDO-ALLDAYEVENT:FALSE
SUMMARY:Strings & Things: Music for Kids"
DESCRIPTION:A program for children will be presented by the Wallowa Valley Music Alliance\, focused on exploring various instruments and how they work. The one-hour program is free and will be presented by musicians Heidi Muller and Bob Webb.  They will bring guitars\, dulcimers\, a mandolin and a cello for a fun time with kids of all ages! Children can take turns trying out the instruments\, plus Heidi and Bob will bring one of their "five-siders" - a large\, five-sided instrument with dulcimer fretboards around the edges\, that everyone can play on together. The Wallowa Valley Music Alliance will offer a music program every third Saturday at the Josephy Center.
X-ALT-DESC;FMTTYPE=text/html:<div style="color: gray\;">\n	<span style="font-size: 11pt\;"><span style="color: black\;"><span style="font-family: times new roman\;">A&nbsp\;program for children will be presented by the Wallowa Valley Music Alliance\, focused on exploring various instruments and how they work. The one-hour program is free and will be presented by musicians Heidi Muller and Bob Webb.&nbsp\; They<span style="font-size: 16px\;">&nbsp\;</span></span></span></span><span style="font-size: 14px\;"><span style="color: black\;"><span style="font-family: times new roman\;"><span class="Apple-style-span" size="2"><span style="font-size: 16px\;">will bring guitars\, dulcimers\, a mandolin and a cello for a fun time with kids of all ages! Children can take turns trying out the instruments\, plus Heidi and Bob will bring one of their &ldquo\;five-siders&rdquo\; - a large\, five-sided instrument with dulcimer fretboards around the edges\, that everyone can play on together. The Wallowa Valley Music Alliance will offer a </span>music program every third Saturday at the Josephy Center.&nbsp\;&nbsp\;<span _fck_bookmark="1" style="display: none\;">&nbsp\;</span></span></span></span></span><br />\n	&nbsp\;</div>\n
LOCATION:Jospehy Center for Arts and Culture\, 403 N. Main\, Joseph
UID:e.1631.551
SEQUENCE:3
DTSTAMP:20260419T210434Z
URL:http://wallowacountychamber.sampleorg.com/events/details/strings-things-music-for-kids-02-16-2013-551
END:VEVENT

END:VCALENDAR
