BEGIN:VCALENDAR
VERSION:2.0
PRODID:-//ChamberMaster//Event Calendar 2.0//EN
METHOD:PUBLISH
X-PUBLISHED-TTL:P3D
REFRESH-INTERVAL:P3D
CALSCALE:GREGORIAN
BEGIN:VEVENT
DTSTART:20130203T220000Z
DTEND:20130204T030000Z
X-MICROSOFT-CDO-ALLDAYEVENT:FALSE
SUMMARY:Superbowl Sunday at Lear's Main St. Pub & Grill
DESCRIPTION:Super Bowl Sunday at Lear's. Lear's is featuring free food\, not so free adult beverages while showing the Super Bowl on wide screen TV.  Briing the whole family and enjoy the game and other family activities.
X-ALT-DESC;FMTTYPE=text/html:Super Bowl Sunday at Lear&#39\;s. Lear&#39\;s is featuring free food\, not so free adult beverages while showing the Super Bowl on wide screen TV.&nbsp\; Briing the whole family and enjoy the game and other family activities.
LOCATION:Lear's Main St. Pub & Grill\, 111 W. Main\, Enterprise
UID:e.1631.323
SEQUENCE:3
DTSTAMP:20260419T210516Z
URL:http://wallowacountychamber.sampleorg.com/events/details/superbowl-sunday-at-lear-s-main-st-pub-grill-02-03-2013-323
END:VEVENT

END:VCALENDAR
