BEGIN:VCALENDAR
VERSION:2.0
PRODID:-//ChamberMaster//Event Calendar 2.0//EN
METHOD:PUBLISH
X-PUBLISHED-TTL:P3D
REFRESH-INTERVAL:P3D
CALSCALE:GREGORIAN
BEGIN:VEVENT
DTSTART:20130410T220000Z
DTEND:20130411T000000Z
X-MICROSOFT-CDO-ALLDAYEVENT:FALSE
SUMMARY:Tea Social
DESCRIPTION:A "Tea Social" will be held this Wed\, April 10 at 3 pm at the Josephy Center for Arts and Culture. Everyone is welcome to bring a favorite tea cup and to hear stories of tea and tradition. Admission is free. Tea will be provided by Red Horse Coffee Co.. and sweets will be provided by the Write People\, a local writers' group. All are welcome.
X-ALT-DESC;FMTTYPE=text/html:<span style="font-family: calibri\,sans-serif\;"><span style="color: black\;"><span style="font-size: medium\;">A &ldquo\;Tea Social&rdquo\; will be held this Wed\, April 10 at 3 pm at the Josephy Center for Arts and Culture. Everyone is welcome to bring a favorite tea cup and to hear stories of tea and tradition. Admission is free. Tea will be provided by Red Horse Coffee Co.. and sweets will be provided by the Write People\, a local writers&rsquo\; group. All are welcome. </span></span></span><br />\n
LOCATION:Josephy Center for Arts & Culture\, 405 N. Main St.\, Joseph
UID:e.1631.3558
SEQUENCE:3
DTSTAMP:20260419T192509Z
URL:http://wallowacountychamber.sampleorg.com/events/details/tea-social-04-10-2013-3558
END:VEVENT

END:VCALENDAR
