BEGIN:VCALENDAR
VERSION:2.0
PRODID:-//ChamberMaster//Event Calendar 2.0//EN
METHOD:PUBLISH
X-PUBLISHED-TTL:P3D
REFRESH-INTERVAL:P3D
CALSCALE:GREGORIAN
BEGIN:VEVENT
DTSTART:20130620T010000Z
DTEND:20130620T030000Z
X-MICROSOFT-CDO-ALLDAYEVENT:FALSE
SUMMARY:The Healing Power of Sleep
DESCRIPTION:A Healthy You - the Healing Power of Sleep.  A presentation free to the public will be held at the Olive Branch Family Health.
X-ALT-DESC;FMTTYPE=text/html:A Healthy You - the Healing Power of Sleep.&nbsp\; A presentation free to the public will be held at the Olive Branch Family Health.
LOCATION:Olive Branch Family Health\, 306 North St.\, Enterprise
UID:e.1631.4334
SEQUENCE:3
DTSTAMP:20260419T202211Z
URL:http://wallowacountychamber.sampleorg.com/events/details/the-healing-power-of-sleep-06-19-2013-4334
END:VEVENT

END:VCALENDAR
