BEGIN:VCALENDAR
VERSION:2.0
PRODID:-//ChamberMaster//Event Calendar 2.0//EN
METHOD:PUBLISH
X-PUBLISHED-TTL:P3D
REFRESH-INTERVAL:P3D
CALSCALE:GREGORIAN
BEGIN:VEVENT
DTSTART:20130221T020000Z
DTEND:20130221T040000Z
X-MICROSOFT-CDO-ALLDAYEVENT:FALSE
SUMMARY:"The Sugar Blues"
DESCRIPTION:Ruby Peak Naturals is hosting a seminar on the dangers of sugar and some healthy alternatives by holistic health counselor/coach Mali Jarvis at Ruby Peak Naturals.
X-ALT-DESC;FMTTYPE=text/html:Ruby Peak Naturals is hosting a seminar on the dangers of sugar and some healthy alternatives by holistic health counselor/coach Mali Jarvis at Ruby Peak Naturals.
LOCATION:604 1/2 S. River St.\, Enterprise
UID:e.1631.1172
SEQUENCE:3
DTSTAMP:20260419T210516Z
URL:http://wallowacountychamber.sampleorg.com/events/details/the-sugar-blues-02-20-2013-1172
END:VEVENT

END:VCALENDAR
