BEGIN:VCALENDAR
VERSION:2.0
PRODID:-//ChamberMaster//Event Calendar 2.0//EN
METHOD:PUBLISH
X-PUBLISHED-TTL:P3D
REFRESH-INTERVAL:P3D
CALSCALE:GREGORIAN
BEGIN:VEVENT
DTSTART:20130210T030000Z
DTEND:20130210T060000Z
X-MICROSOFT-CDO-ALLDAYEVENT:FALSE
SUMMARY:Tunesmith Night At Lear's Main St. Grill
DESCRIPTION:Our monthly songwriter showcase continues on this Saturday. This month features songwriters Carolyn Lochert\, Sloan Martin and Ryan Rebo.  Carolyn Lochert's jazzy vocals and bluesy groove express her songs that reach from fun-loving heights to the deepest of blue. Lochert will be accompanied by guitarist Darrell Brann.  From Portland\, Oregon\, Sloan Martin started out as a drummer and moved to guitar\, he was able to fuse his love for rhythm with the melodies drifting thru his head\, and also his love for literature and poetry. Seattle born/Montana raised musician Ryan Rebo has been writing and recording a wide variety of music for the last decade. Held every second Saturday\, October through May\, this monthly showcase of original music is an opportunity for songwriters to present their work to a supportive listening audience. Admission is $8 at the door or by season pass. Doors open at 6pm\, all ages welcome. Wallowa Valley Music Alliance receives support for Tunesmith Night and other programs from the Oregon Arts Commission.
X-ALT-DESC;FMTTYPE=text/html:<div style="color: gray">\n	<span style="text-decoration: none\; text-underline: none"><span style="font-family: arial\, sans-serif"><span style="font-size: medium">Our monthly songwriter showcase continues on&nbsp\;this Saturday. This month features&nbsp\;songwriters Carolyn Lochert\, Sloan Martin and&nbsp\;Ryan Rebo.&nbsp\; Carolyn Lochert&rsquo\;s jazzy vocals and bluesy groove express her songs that reach from fun-loving heights to the deepest of blue. Lochert will be accompanied by guitarist Darrell Brann.&nbsp\; From Portland\, Oregon\, Sloan Martin started out as a drummer and moved to guitar\, he was able to fuse his love for rhythm with the melodies drifting thru his head\, and also his love for literature and poetry. Seattle born/Montana raised musician Ryan Rebo has been writing and recording a wide variety of music for the last decade. Held every second Saturday\, October through May\, this monthly showcase of original music is an opportunity for songwriters to present their work to a supportive listening audience. Admission is $8 at the door or by season pass. Doors open at 6pm\, all ages welcome. Wallowa Valley Music Alliance receives support for Tunesmith Night and other programs from the Oregon Arts Commission.&nbsp\;</span></span></span><br />\n	&nbsp\;</div>\n
LOCATION:Lear's Main St. Grill\, 111 W. Main\, Enterpise
UID:e.1631.338
SEQUENCE:3
DTSTAMP:20260419T210517Z
URL:http://wallowacountychamber.sampleorg.com/events/details/tunesmith-night-at-lear-s-main-st-grill-02-09-2013-338
END:VEVENT

END:VCALENDAR
