BEGIN:VCALENDAR
VERSION:2.0
PRODID:-//ChamberMaster//Event Calendar 2.0//EN
METHOD:PUBLISH
X-PUBLISHED-TTL:P3D
REFRESH-INTERVAL:P3D
CALSCALE:GREGORIAN
BEGIN:VEVENT
DTSTART:20130628T003000Z
DTEND:20130628T020000Z
X-MICROSOFT-CDO-ALLDAYEVENT:FALSE
SUMMARY:Wallowa County Chamber After Hours for Members
DESCRIPTION:IT'S A PARTY!  On top of Mt. Howard!\n\n \n\n--- Wallowa County Chamber--- After Hours for our members---\n\n \n\n5:30 - 7:00 pm\, Thursday evening\, June 20th\n\nFree Tramway Ride up the mountain to the Glacier Grill\n\n \n\nWhat kind of party?  Fun\, food\, beverage\, music\, and one mega good time!\n\nWe are requiring an RSVP to the chamber of this event.  We need numbers for the food. Call at 541-426-4622 or email us at info@wallowacounty.org\n\n \n\nThe Wallowa Lake Tramway is partnering with the Chamber to give a party for Chamber members.  There will be Music\, Wine\, and\, of course\,  that landmark beer from Terminal Gravity. \n\n \n\nOur guest speaker\, Alice Trindle of EOVA\, will share what's great and new in Eastern Oregon's Tourism. Afterwards Mike Lockhart of the Wallowa Lake Tramway\, will unfold  his new activities on top of Mt. Howard for this summer.  The rest of the party is hanging out on top of the mountain with great food and friends.
X-ALT-DESC;FMTTYPE=text/html:<span style="font-size:14px\;"><em><strong>IT&rsquo\;S A PARTY!&nbsp\; On top of Mt. Howard!</strong></em></span><br />\n&nbsp\;<br />\n<strong><em>---</em> <em>Wallowa County Chamber</em></strong><em><strong>--- After Hours for our members---</strong></em><br />\n&nbsp\;<br />\n5:30 - 7:00 pm\, Thursday evening\,&nbsp\;June 20th<br />\nFree Tramway Ride up the mountain to the Glacier Grill<br />\n&nbsp\;<br />\nWhat kind of party? &nbsp\;Fun\, food\, beverage\, music\, and one mega good time!<br />\nWe are requiring an RSVP to the chamber of this event.&nbsp\; We need numbers for the food. Call at 541-426-4622 or email us at info@wallowacounty.org<br />\n&nbsp\;<br />\nThe Wallowa Lake Tramway is partnering with the Chamber to&nbsp\;give a party for Chamber members.&nbsp\; There will be Music\,&nbsp\;Wine\, and\, of course\, &nbsp\;that landmark beer from Terminal Gravity.&nbsp\;<br />\n&nbsp\;<br />\nOur guest speaker\, Alice Trindle of EOVA\, will share what&#39\;s&nbsp\;great and new&nbsp\;in Eastern Oregon&#39\;s Tourism.&nbsp\;Afterwards Mike Lockhart of the Wallowa Lake Tramway\, will unfold&nbsp\; his new activities on top of Mt. Howard for this summer.&nbsp\; The rest of the party is hanging out on top of the mountain with great food and friends.
LOCATION:Wallowa Lake Tramway\, Wallowa Lake Village
UID:e.1631.4321
SEQUENCE:3
DTSTAMP:20260419T202054Z
URL:http://wallowacountychamber.sampleorg.com/events/details/wallowa-county-chamber-after-hours-for-members-06-27-2013-4321
END:VEVENT

END:VCALENDAR
