BEGIN:VCALENDAR
VERSION:2.0
PRODID:-//ChamberMaster//Event Calendar 2.0//EN
METHOD:PUBLISH
X-PUBLISHED-TTL:P3D
REFRESH-INTERVAL:P3D
CALSCALE:GREGORIAN
BEGIN:VEVENT
DTSTART:20130210T010000Z
DTEND:20130210T050000Z
X-MICROSOFT-CDO-ALLDAYEVENT:FALSE
SUMMARY:Wallowa County Chapter of Ducks Unlimited Annual Banquet
DESCRIPTION:The Annual Ducks Unlimited Banquet will be held at the Enterprise Elks Lodge. There will be dinner\, raffle\, silent auction and oral auction.  Call for tickets: 541-828-7795\, 541-426-6625 or 541-886-8802.
X-ALT-DESC;FMTTYPE=text/html:<span style="text-decoration: none\; text-underline: none"><span style="font-family: arial\, sans-serif"><span style="font-size: medium"><span style="color: #0000ff">The Annual Ducks Unlimited Banquet will be held at the Enterprise Elks Lodge. There will be dinner\,&nbsp\;raffle\, silent auction and oral auction.&nbsp\; Call for tickets: 541-828-7795\, 541-426-6625 or 541-886-8802.&nbsp\;</span></span></span></span><br />\n
LOCATION:Enterprise Elks Lodge\, 211 W. North\, Enterprise
UID:e.1631.189
SEQUENCE:3
DTSTAMP:20260419T210555Z
URL:http://wallowacountychamber.sampleorg.com/events/details/wallowa-county-chapter-of-ducks-unlimited-annual-banquet-02-09-2013-189
END:VEVENT

END:VCALENDAR
