BEGIN:VCALENDAR
VERSION:2.0
PRODID:-//ChamberMaster//Event Calendar 2.0//EN
METHOD:PUBLISH
X-PUBLISHED-TTL:P3D
REFRESH-INTERVAL:P3D
CALSCALE:GREGORIAN
BEGIN:VEVENT
DTSTART:20130211T013000Z
DTEND:20130211T033000Z
X-MICROSOFT-CDO-ALLDAYEVENT:FALSE
SUMMARY:Wallowa County Reads 2013: Finale:Battle of the Books
DESCRIPTION:Finale: Battle of the Books: Join us for this evening of good food and  A River Runs Through It   themed quiz-show questions. Start planning your team now-  for HS students and adults with potluck dinner at Enterprise School District Multi-Purpose Room.
X-ALT-DESC;FMTTYPE=text/html:<strong>Finale: Battle of the Books</strong>: Join us for this evening of good food and &nbsp\;<em>A River Runs Through It</em> &ndash\; themed quiz-show questions. Start planning your team now- &nbsp\;for HS students and adults with potluck dinner at Enterprise School District Multi-Purpose Room.&nbsp\;<span _fck_bookmark="1" style="display: none\;">&nbsp\;</span>
LOCATION:Enterprise School District Multi-Purpose Room\, Enterprise
UID:e.1631.188
SEQUENCE:3
DTSTAMP:20260419T210554Z
URL:http://wallowacountychamber.sampleorg.com/events/details/wallowa-county-reads-2013-finale-battle-of-the-books-02-10-2013-188
END:VEVENT

END:VCALENDAR
