BEGIN:VCALENDAR
VERSION:2.0
PRODID:-//ChamberMaster//Event Calendar 2.0//EN
METHOD:PUBLISH
X-PUBLISHED-TTL:P3D
REFRESH-INTERVAL:P3D
CALSCALE:GREGORIAN
BEGIN:VEVENT
DTSTART:20130131T030000Z
DTEND:20130131T050000Z
X-MICROSOFT-CDO-ALLDAYEVENT:FALSE
SUMMARY:Wallowa County Reads 2013:Parallels Between Hear of a Shepherd and A River Runs Through It
DESCRIPTION:Rosanne Parry\, author of Heart of a Shepherd\, will give an evening presentation about our companion book for grades 4-8.
X-ALT-DESC;FMTTYPE=text/html:<p class="MsoNormal" style="margin: 0in 0in 0pt">\n	<font size="3"><font color="#0000ff"><span class="MsoHyperlink"><span style="font-family: 'arial'\, 'sans-serif'\; text-decoration: none\; mso-bidi-font-style: italic\; text-underline: none">Rosanne Parry\, author of </span></span><span class="MsoHyperlink"><i style="mso-bidi-font-style: normal"><span style="font-family: 'arial'\, 'sans-serif'\; text-decoration: none\; text-underline: none">Heart of a Shepherd</span></i></span><span class="MsoHyperlink"><span style="font-family: 'arial'\, 'sans-serif'\; text-decoration: none\; mso-bidi-font-style: italic\; text-underline: none">\, will give an evening presentation about our companion book for grades 4-8. <span _fck_bookmark="1" style="display: none">&nbsp\;</span><o:p></o:p></span></span></font></font></p>\n
LOCATION:Presbyterian Church\, Lostine
UID:e.1631.181
SEQUENCE:3
DTSTAMP:20260419T223710Z
URL:http://wallowacountychamber.sampleorg.com/events/details/wallowa-county-reads-2013-parallels-between-hear-of-a-shepherd-and-a-river-runs-through-it-01-30-2013-181
END:VEVENT

END:VCALENDAR
