BEGIN:VCALENDAR
VERSION:2.0
PRODID:-//ChamberMaster//Event Calendar 2.0//EN
METHOD:PUBLISH
X-PUBLISHED-TTL:P3D
REFRESH-INTERVAL:P3D
CALSCALE:GREGORIAN
BEGIN:VEVENT
DTSTART:20130430T153000Z
DTEND:20130430T223000Z
X-MICROSOFT-CDO-ALLDAYEVENT:FALSE
SUMMARY:Wallowa County Vitality Summit
DESCRIPTION:Have you ever wondered why we have so many organizations to serve our residents?  What do they do? How are they helping our county?  On April 30th at Cloverleaf Hall\, the Wallowa County Commissioners will convene local representatives from a variety of organizations to share what they do\, why it matters and how it affects you.  Everyone will have the opportunity to explore ways to work together\, be more effective\, fill gaps and discover common ground to improve Wallowa County's vitality.  Please join us for presentations\, discussion and networking.  Who should attend?  Mayors\, city councilors\, government agencies and commission members\, board members\, community volunteers\, and anyone committed to the future of Wallowa County.  Lunch will be provided.  To register\, contact the Wallowa County Chamber by April 15th at 541-426-4622 or info@wallowacounty.org.
X-ALT-DESC;FMTTYPE=text/html:<div style="color: gray\;">\n	<span style="color: rgb(0\, 0\, 0)\;"><span style="font-size: medium\;"><span style="text-decoration: none\; text-underline: none\;"><span style="font-family: arial\,sans-serif\;">Have you ever wondered why we have so many organizations to serve our residents?&nbsp\; What do they do? How are they helping our county?&nbsp\; On April 30th at Cloverleaf Hall\, the Wallowa County Commissioners will convene local representatives from a variety of organizations to share what they do\, why it matters and how it affects you.&nbsp\; Everyone will have the opportunity to explore ways to work together\, be more effective\, fill gaps and discover common ground to improve Wallowa County&#39\;s vitality.&nbsp\; Please join us for presentations\, discussion and networking.&nbsp\; Who should attend?&nbsp\; Mayors\, city councilors\, government agencies and commission&nbsp\;members\, board members\, community volunteers\, and anyone committed to the future of Wallowa County.&nbsp\; <strong>Lunch will be provided</strong>.&nbsp\; To register\, contact the Wallowa County Chamber by April 15th at 541-426-4622 or info@wallowacounty.org.</span></span> </span></span><br />\n	&nbsp\;</div>\n
LOCATION:Cloverleaf Hall\, Enterprise
UID:e.1631.2742
SEQUENCE:3
DTSTAMP:20260419T180456Z
URL:http://wallowacountychamber.sampleorg.com/events/details/wallowa-county-vitality-summit-04-30-2013-2742
END:VEVENT

END:VCALENDAR
