BEGIN:VCALENDAR
VERSION:2.0
PRODID:-//ChamberMaster//Event Calendar 2.0//EN
METHOD:PUBLISH
X-PUBLISHED-TTL:P3D
REFRESH-INTERVAL:P3D
CALSCALE:GREGORIAN
BEGIN:VEVENT
DTSTART:20130505T010000Z
DTEND:20130505T030000Z
X-MICROSOFT-CDO-ALLDAYEVENT:FALSE
SUMMARY:Wallowa FFA Awards Banquet
DESCRIPTION:Wallowa FFA awards & banquet will begin at 6:00pm.  Dinner starts at 6pm followed by awards program in the Beth Johnson Room
X-ALT-DESC;FMTTYPE=text/html:Wallowa FFA awards &amp\; banquet will begin at 6:00pm.&nbsp\; Dinner starts at 6pm followed by awards program in the Beth Johnson Room<br />\n
LOCATION:Beth Johnson Room\, Wallowa School\, Wallowa
UID:e.1631.3925
SEQUENCE:3
DTSTAMP:20260419T163909Z
URL:http://wallowacountychamber.sampleorg.com/events/details/wallowa-ffa-awards-banquet-05-04-2013-3925
END:VEVENT

END:VCALENDAR
