BEGIN:VCALENDAR
VERSION:2.0
PRODID:-//ChamberMaster//Event Calendar 2.0//EN
METHOD:PUBLISH
X-PUBLISHED-TTL:P3D
REFRESH-INTERVAL:P3D
CALSCALE:GREGORIAN
BEGIN:VEVENT
DTSTART:20130601T180000Z
DTEND:20130601T200000Z
X-MICROSOFT-CDO-ALLDAYEVENT:FALSE
SUMMARY:Wallowa High School Commencement
DESCRIPTION:The Wallowa High School Commencement will be held at the High School Gym.
X-ALT-DESC;FMTTYPE=text/html:The Wallowa High School Commencement will be held at the High School Gym.
LOCATION:Wallowa High School
UID:e.1631.4199
SEQUENCE:3
DTSTAMP:20260419T150943Z
URL:http://wallowacountychamber.sampleorg.com/events/details/wallowa-high-school-commencement-06-01-2013-4199
END:VEVENT

END:VCALENDAR
