BEGIN:VCALENDAR
VERSION:2.0
PRODID:-//ChamberMaster//Event Calendar 2.0//EN
METHOD:PUBLISH
X-PUBLISHED-TTL:P3D
REFRESH-INTERVAL:P3D
CALSCALE:GREGORIAN
BEGIN:VEVENT
DTSTART:20130719T030000Z
DTEND:20130719T040000Z
X-MICROSOFT-CDO-ALLDAYEVENT:FALSE
SUMMARY:Wallowa Lake State Park Programs
DESCRIPTION:The evening campfire program is: The History of Elk at Wallowa Lake.
X-ALT-DESC;FMTTYPE=text/html:The evening campfire program is: The History of Elk at Wallowa Lake.
LOCATION:Program Area is located south of Ice Creek Shelter by the parking lot at Wallowa Lake State Park
UID:e.1631.4367
SEQUENCE:3
DTSTAMP:20260419T133940Z
URL:http://wallowacountychamber.sampleorg.com/events/details/wallowa-lake-state-park-programs-07-18-2013-4367
END:VEVENT

END:VCALENDAR
