BEGIN:VCALENDAR
VERSION:2.0
PRODID:-//ChamberMaster//Event Calendar 2.0//EN
METHOD:PUBLISH
X-PUBLISHED-TTL:P3D
REFRESH-INTERVAL:P3D
CALSCALE:GREGORIAN
BEGIN:VEVENT
DTSTART:20130510T160000Z
DTEND:20130510T210000Z
X-MICROSOFT-CDO-ALLDAYEVENT:FALSE
SUMMARY:Wallowa River Cleanup
DESCRIPTION:Wallowa River Cleanup at the mouth of Wallowa River to stop flow of invasive weeds is hosted by Wallowa Lake State Park.  A potluck /barbeque will be held at the Ice Lake Shelter.  Meet at Riverside Day Use area.  Volunteers are needed  contact Shawn Dutcher 541-432-8855 Ext.22
X-ALT-DESC;FMTTYPE=text/html:Wallowa River Cleanup at the mouth of Wallowa River to stop flow of invasive weeds is hosted by Wallowa Lake State Park.&nbsp\; A potluck /barbeque will be held at the Ice Lake Shelter.&nbsp\; Meet at Riverside Day Use area.&nbsp\; <em><strong>Volunteers are needed</strong></em>&nbsp\; contact Shawn Dutcher 541-432-8855 Ext.22
LOCATION:Riverside Day use Area\, Wallowa Lake State Park\;.
UID:e.1631.4130
SEQUENCE:3
DTSTAMP:20260419T163659Z
URL:http://wallowacountychamber.sampleorg.com/events/details/wallowa-river-cleanup-05-10-2013-4130
END:VEVENT

END:VCALENDAR
