BEGIN:VCALENDAR
VERSION:2.0
PRODID:-//ChamberMaster//Event Calendar 2.0//EN
METHOD:PUBLISH
X-PUBLISHED-TTL:P3D
REFRESH-INTERVAL:P3D
CALSCALE:GREGORIAN
BEGIN:VEVENT
DTSTART:20130425T003000Z
DTEND:20130425T020000Z
X-MICROSOFT-CDO-ALLDAYEVENT:FALSE
SUMMARY:WC Business Facilitation Reception
DESCRIPTION:Wallowa County Business Facilitation invites you to attend a reception to honor our 12-year collaboration with the Sirolli Institute and to introduce Sirolli Master Trainer Linda McCowan who will speak on 'Creating a Resource Team to promote Local Business Development'.  The after-hours reception will be held on Wednesday\, April 24 from 5:30-7:00 at the Josephy Center\, Main Street Joseph.  Refreshments will be served.
X-ALT-DESC;FMTTYPE=text/html:<div style="color: gray\;">\n	<span style="font-size: medium\;"><span style="font-family: times new roman\;"><strong>Wallowa County Business Facilitation invites you to attend a reception to honor our 12-year collaboration with the Sirolli Institute and to introduce Sirolli Master Trainer Linda McCowan who will speak on &#39\;Creating a&nbsp\;</strong></span></span><span style="font-size: medium\;"><span style="font-family: times new roman\;"><strong>Resource Team to&nbsp\;promote Local Business Development&#39\;. &nbsp\;The after-hours&nbsp\;</strong></span></span><span style="font-size: medium\;"><span style="font-family: times new roman\;"><strong>reception will&nbsp\;be held on Wednesday\, April 24 from 5:30-7:00 at the Josephy&nbsp\;</strong></span></span><span style="font-size: medium\;"><span style="font-family: times new roman\;"><strong>Center\,&nbsp\;Main Street Joseph. &nbsp\;Refreshments will be served.</strong></span></span><br />\n	&nbsp\;</div>\n
LOCATION:Josephy Center for Arts & Culture\, 400 N. Main St.\, Joseph
UID:e.1631.2961
SEQUENCE:3
DTSTAMP:20260419T180351Z
URL:http://wallowacountychamber.sampleorg.com/events/details/wc-business-facilitation-reception-04-24-2013-2961
END:VEVENT

END:VCALENDAR
