BEGIN:VCALENDAR
VERSION:2.0
PRODID:-//ChamberMaster//Event Calendar 2.0//EN
METHOD:PUBLISH
X-PUBLISHED-TTL:P3D
REFRESH-INTERVAL:P3D
CALSCALE:GREGORIAN
BEGIN:VEVENT
DTSTART:20130521T160000Z
DTEND:20130521T170000Z
X-MICROSOFT-CDO-ALLDAYEVENT:FALSE
SUMMARY:WC Chamber Legislative Confernece Calls
DESCRIPTION:Here is an opportunity to get updates and ask questions of our legislators.  Please bring a copy of your questions or input to the meeting to help structure the timing of this short meeting.  We ask everyone to limit questions to 2 minutes.  Depending on the size of a document\, we may be able to email your input directly to the legislators.  Remember to confirm your attendance by the 2nd Tuesday of each month.
X-ALT-DESC;FMTTYPE=text/html:Here is an opportunity to get updates and ask questions of our legislators.&nbsp\; Please bring a copy of your questions or input to the meeting to help structure the timing of this short meeting.&nbsp\; We ask everyone to limit questions to 2 minutes.&nbsp\; Depending on the size of a document\, we may be able to email your input directly to the legislators.&nbsp\; Remember to confirm your attendance by the 2nd Tuesday of each month.&nbsp\; 
LOCATION:The conference call will be held at the Wallowa County OSU Extension office 668 NW 1st St.\, Enterprise.
UID:e.1631.2739
SEQUENCE:3
DTSTAMP:20260419T163725Z
URL:http://wallowacountychamber.sampleorg.com/events/details/wc-chamber-legislative-confernece-calls-05-21-2013-2739
END:VEVENT

END:VCALENDAR
