BEGIN:VCALENDAR
VERSION:2.0
PRODID:-//ChamberMaster//Event Calendar 2.0//EN
METHOD:PUBLISH
X-PUBLISHED-TTL:P3D
REFRESH-INTERVAL:P3D
CALSCALE:GREGORIAN
BEGIN:VEVENT
DTSTART;VALUE=DATE:20130601
DTEND;VALUE=DATE:20130602
TRANSP:TRANSPARENT
X-MICROSOFT-CDO-ALLDAYEVENT:TRUE
SUMMARY:Wine & White Water
DESCRIPTION:Come celebrate our 40th Anniversary with us\, it doesn't get much better than this! Enjoy a wine tasting hosted by Earth and Vine Winery from Baker City in Hells Canyon on a jet boat in the deepest gorge in North America. On your adventure you will get to marvel at the beautiful spring colors as you navigate through the major white water\, stop to sight see\, and munch on a great brunch in the middle of nowhere.  Tour departs at 11:00 AM and ends around 2:00 PM. Cost per person: $100. Reservations required. It doesn't matter if you are 21 or 100 you must have valid ID at launch site.\n\n"Wine is sunlight\, held together by water!"
X-ALT-DESC;FMTTYPE=text/html:<span style="font-family:arial\,sans-serif\;"><span style="font-size:12.0pt\;">Come celebrate our 40<sup>th</sup> Anniversary with us\, it doesn&rsquo\;t get much better than this! Enjoy a wine tasting hosted by Earth and Vine Winery from Baker City in Hells Canyon on a jet boat in the deepest gorge in North America. On your adventure you will get to marvel at the beautiful spring colors as you navigate through the major white water\, stop to sight see\, and munch on a great brunch in the middle of nowhere.&nbsp\; Tour departs at 11:00 AM and ends around 2:00 PM. Cost per person: $100. Reservations required. It doesn&rsquo\;t matter if you are 21 or 100 you must have valid ID at launch site.</span></span><br />\n<strong><span style="font-family:arial\,sans-serif\;"><span style="font-size:22.0pt\;">&ldquo\;Wine is sunlight\, held together by water!&rdquo\;</span></span></strong>
LOCATION:Hell's Canyon Dam Launch Site
UID:e.1631.4132
SEQUENCE:3
DTSTAMP:20260419T150827Z
URL:http://wallowacountychamber.sampleorg.com/events/details/wine-white-water-06-01-2013-4132
END:VEVENT

END:VCALENDAR
