BEGIN:VCALENDAR
VERSION:2.0
PRODID:-//ChamberMaster//Event Calendar 2.0//EN
METHOD:PUBLISH
X-PUBLISHED-TTL:P3D
REFRESH-INTERVAL:P3D
CALSCALE:GREGORIAN
BEGIN:VEVENT
DTSTART:20130518T070000Z
DTEND:20130518T230000Z
X-MICROSOFT-CDO-ALLDAYEVENT:FALSE
SUMMARY:Work Party to Restore the Flora School
DESCRIPTION:WORK PARTY TO RESTORE THE FLORA SCHOOL:  If you cannot come for the full time\, come for whatever amount of time you can put in. If you do not have any particular carpenter or restoration skills\, that's OK because we are perfectly willing to teach you some skills. Children are always welcome to help or play! Bring potluck to share at lunch.
X-ALT-DESC;FMTTYPE=text/html:&nbsp\;<br />\nWORK PARTY TO RESTORE THE FLORA SCHOOL:&nbsp\; If you cannot come for the full time\,&nbsp\;come for whatever amount of time you can put in. If you do not have any particular carpenter or restoration skills\, that&#39\;s OK because we are perfectly willing to teach you some skills. Children are always welcome to help or play! Bring potluck to share at lunch.<br />\n&nbsp\;
LOCATION:Flora School\, Flora
UID:e.1631.4142
SEQUENCE:3
DTSTAMP:20260419T163833Z
URL:http://wallowacountychamber.sampleorg.com/events/details/work-party-to-restore-the-flora-school-05-18-2013-4142
END:VEVENT

END:VCALENDAR
